BEGIN:VCALENDAR
VERSION:2.0
PRODID:-//Disciple Making Ministries - ECPv6.15.20//NONSGML v1.0//EN
CALSCALE:GREGORIAN
METHOD:PUBLISH
X-WR-CALNAME:Disciple Making Ministries
X-ORIGINAL-URL:https://disciplemakingal.com
X-WR-CALDESC:Events for Disciple Making Ministries
REFRESH-INTERVAL;VALUE=DURATION:PT1H
X-Robots-Tag:noindex
X-PUBLISHED-TTL:PT1H
BEGIN:VTIMEZONE
TZID:America/New_York
BEGIN:DAYLIGHT
TZOFFSETFROM:-0500
TZOFFSETTO:-0400
TZNAME:EDT
DTSTART:20200308T070000
END:DAYLIGHT
BEGIN:STANDARD
TZOFFSETFROM:-0400
TZOFFSETTO:-0500
TZNAME:EST
DTSTART:20201101T060000
END:STANDARD
BEGIN:DAYLIGHT
TZOFFSETFROM:-0500
TZOFFSETTO:-0400
TZNAME:EDT
DTSTART:20210314T070000
END:DAYLIGHT
BEGIN:STANDARD
TZOFFSETFROM:-0400
TZOFFSETTO:-0500
TZNAME:EST
DTSTART:20211107T060000
END:STANDARD
BEGIN:DAYLIGHT
TZOFFSETFROM:-0500
TZOFFSETTO:-0400
TZNAME:EDT
DTSTART:20220313T070000
END:DAYLIGHT
BEGIN:STANDARD
TZOFFSETFROM:-0400
TZOFFSETTO:-0500
TZNAME:EST
DTSTART:20221106T060000
END:STANDARD
END:VTIMEZONE
BEGIN:VEVENT
DTSTART;VALUE=DATE:20210419
DTEND;VALUE=DATE:20210421
DTSTAMP:20260425T201725
CREATED:20210323T231752Z
LAST-MODIFIED:20210323T231752Z
UID:27586-1618790400-1618963199@disciplemakingal.com
SUMMARY:Alabama Discipleship Conference
DESCRIPTION:Register for free at ALDisciplshipConference.com\n\nThe State Discipleship conference is unlike any conference you have attended before. In fact\, it is more of an experience than a conference. Our aim is to help expose you to the principles of disciple-making through the conference schedule and structure.\nWe have fantastic keynotes–Joel Malm\, Ken Adams\, Robert Coleman\, & Scott Kindig. Between the main sessions\, we will have conference roundtables and unique opportunities for conversations to happen around conference topics around the campus. You will not only hear from the keynotes on stage\, you will have the opportunity to interact with them in small groups!\n\nRegistration is free\, but required due to limited capacity. Register now at ALDisciplshipConference.com to save your spot!
URL:https://disciplemakingal.com/event/alabama-discipleship-conference/
LOCATION:Fultondale First Baptist\, 409 Main Street\, Fultondale\, AL\, 35068\, United States
CATEGORIES:Conference
ATTACH;FMTTYPE=image/jpeg:https://disciplemakingal.com/wp-content/uploads/2021/03/disciple-ad.jpg
END:VEVENT
END:VCALENDAR