BEGIN:VCALENDAR
VERSION:2.0
PRODID:-//Disciple Making Ministries - ECPv6.15.20//NONSGML v1.0//EN
CALSCALE:GREGORIAN
METHOD:PUBLISH
X-ORIGINAL-URL:https://disciplemakingal.com
X-WR-CALDESC:Events for Disciple Making Ministries
REFRESH-INTERVAL;VALUE=DURATION:PT1H
X-Robots-Tag:noindex
X-PUBLISHED-TTL:PT1H
BEGIN:VTIMEZONE
TZID:America/New_York
BEGIN:DAYLIGHT
TZOFFSETFROM:-0500
TZOFFSETTO:-0400
TZNAME:EDT
DTSTART:20200308T070000
END:DAYLIGHT
BEGIN:STANDARD
TZOFFSETFROM:-0400
TZOFFSETTO:-0500
TZNAME:EST
DTSTART:20201101T060000
END:STANDARD
BEGIN:DAYLIGHT
TZOFFSETFROM:-0500
TZOFFSETTO:-0400
TZNAME:EDT
DTSTART:20210314T070000
END:DAYLIGHT
BEGIN:STANDARD
TZOFFSETFROM:-0400
TZOFFSETTO:-0500
TZNAME:EST
DTSTART:20211107T060000
END:STANDARD
BEGIN:DAYLIGHT
TZOFFSETFROM:-0500
TZOFFSETTO:-0400
TZNAME:EDT
DTSTART:20220313T070000
END:DAYLIGHT
BEGIN:STANDARD
TZOFFSETFROM:-0400
TZOFFSETTO:-0500
TZNAME:EST
DTSTART:20221106T060000
END:STANDARD
END:VTIMEZONE
BEGIN:VEVENT
DTSTART;VALUE=DATE:20210806
DTEND;VALUE=DATE:20210808
DTSTAMP:20260425T132104
CREATED:20210730T210921Z
LAST-MODIFIED:20210730T211140Z
UID:28543-1628208000-1628380799@disciplemakingal.com
SUMMARY:Pinnacle Alabama @Shocco
DESCRIPTION:As a part of the Annual ALSBOM Leadership conference\, the Disciple Making Ministries will have a mini-conference focused solely on making disciples! \nThe training will begin with Early Bird Conference at 1:30 p.m. on Friday\, followed by a worship rally and supper. Then you’ll have options to participate in two other conference times on Friday evening and three on Saturday. Some sessions will be for those new to disciple making and others will be for more experienced leaders. \nClick here to register. \nThis event is made possible by gifts of Alabama Baptists through the Cooperative Program.
URL:https://disciplemakingal.com/event/pinnacle-alabama-shocco/
LOCATION:Shocco Springs\, 1314 Shocco Springs Road\, Talladega\, Alabama\, 35160
CATEGORIES:Conference
ORGANIZER;CN="Alabama Baptist State Board of Missions":MAILTO:dedmonds@alsbom.org
END:VEVENT
END:VCALENDAR