BEGIN:VCALENDAR
VERSION:2.0
PRODID:-//Disciple Making Ministries - ECPv6.15.20//NONSGML v1.0//EN
CALSCALE:GREGORIAN
METHOD:PUBLISH
X-WR-CALNAME:Disciple Making Ministries
X-ORIGINAL-URL:https://disciplemakingal.com
X-WR-CALDESC:Events for Disciple Making Ministries
REFRESH-INTERVAL;VALUE=DURATION:PT1H
X-Robots-Tag:noindex
X-PUBLISHED-TTL:PT1H
BEGIN:VTIMEZONE
TZID:America/New_York
BEGIN:DAYLIGHT
TZOFFSETFROM:-0500
TZOFFSETTO:-0400
TZNAME:EDT
DTSTART:20210314T070000
END:DAYLIGHT
BEGIN:STANDARD
TZOFFSETFROM:-0400
TZOFFSETTO:-0500
TZNAME:EST
DTSTART:20211107T060000
END:STANDARD
BEGIN:DAYLIGHT
TZOFFSETFROM:-0500
TZOFFSETTO:-0400
TZNAME:EDT
DTSTART:20220313T070000
END:DAYLIGHT
BEGIN:STANDARD
TZOFFSETFROM:-0400
TZOFFSETTO:-0500
TZNAME:EST
DTSTART:20221106T060000
END:STANDARD
BEGIN:DAYLIGHT
TZOFFSETFROM:-0500
TZOFFSETTO:-0400
TZNAME:EDT
DTSTART:20230312T070000
END:DAYLIGHT
BEGIN:STANDARD
TZOFFSETFROM:-0400
TZOFFSETTO:-0500
TZNAME:EST
DTSTART:20231105T060000
END:STANDARD
END:VTIMEZONE
BEGIN:VEVENT
DTSTART;VALUE=DATE:20220404
DTEND;VALUE=DATE:20220406
DTSTAMP:20260424T230002
CREATED:20220317T194057Z
LAST-MODIFIED:20220317T194408Z
UID:30269-1649030400-1649203199@disciplemakingal.com
SUMMARY:2022 Alabama Discipleship Conference
DESCRIPTION:Register for free at ALDisciplshipConference.com\n\n  \nThe Alabama Discipleship conference is unlike the typical conference. In fact\, it is more of an experience than a conference. Our aim is to help expose you to the principles of disciple-making through the conference schedule and structure.\n\n  \nThis year’s event is at Glynwood Baptist Church in Prattville\, AL.\n\n  \nWe have fantastic keynotes leaders–Craig Etheredge\, Ken Adams\, & Mark Gainey. Between the main sessions\, we will have conference roundtables and unique opportunities for conversations to happen around the campus. You will not only hear from the keynotes on stage\, you will have the opportunity to interact with them in small groups!\n\n  \nRegistration is free\, but required due to limited capacity. Register now at ALDisciplshipConference.com to save your spot!\n 
URL:https://disciplemakingal.com/event/2022-alabama-discipleship-conference/
LOCATION:Glynwood Baptist Church\, 376 McQueen Smith Rd N\, Prattville\, AL\, 36066\, United States
CATEGORIES:Conference
ATTACH;FMTTYPE=image/jpeg:https://disciplemakingal.com/wp-content/uploads/2022/03/Copy-of-faithful-1.jpg
END:VEVENT
END:VCALENDAR