BEGIN:VCALENDAR
VERSION:2.0
PRODID:-//Disciple Making Ministries - ECPv6.15.20//NONSGML v1.0//EN
CALSCALE:GREGORIAN
METHOD:PUBLISH
X-WR-CALNAME:Disciple Making Ministries
X-ORIGINAL-URL:https://disciplemakingal.com
X-WR-CALDESC:Events for Disciple Making Ministries
REFRESH-INTERVAL;VALUE=DURATION:PT1H
X-Robots-Tag:noindex
X-PUBLISHED-TTL:PT1H
BEGIN:VTIMEZONE
TZID:America/New_York
BEGIN:DAYLIGHT
TZOFFSETFROM:-0500
TZOFFSETTO:-0400
TZNAME:EDT
DTSTART:20240310T070000
END:DAYLIGHT
BEGIN:STANDARD
TZOFFSETFROM:-0400
TZOFFSETTO:-0500
TZNAME:EST
DTSTART:20241103T060000
END:STANDARD
BEGIN:DAYLIGHT
TZOFFSETFROM:-0500
TZOFFSETTO:-0400
TZNAME:EDT
DTSTART:20250309T070000
END:DAYLIGHT
BEGIN:STANDARD
TZOFFSETFROM:-0400
TZOFFSETTO:-0500
TZNAME:EST
DTSTART:20251102T060000
END:STANDARD
BEGIN:DAYLIGHT
TZOFFSETFROM:-0500
TZOFFSETTO:-0400
TZNAME:EDT
DTSTART:20260308T070000
END:DAYLIGHT
BEGIN:STANDARD
TZOFFSETFROM:-0400
TZOFFSETTO:-0500
TZNAME:EST
DTSTART:20261101T060000
END:STANDARD
END:VTIMEZONE
BEGIN:VEVENT
DTSTART;VALUE=DATE:20250407
DTEND;VALUE=DATE:20250409
DTSTAMP:20260421T211044
CREATED:20250130T174044Z
LAST-MODIFIED:20250130T174323Z
UID:32852-1743984000-1744156799@disciplemakingal.com
SUMMARY:2025 Southeast Regional Disciple-Making Summit
DESCRIPTION:A regional summit for church Disciple Leaders (pastors\, staff\, volunteers) in partnership with the Alabama Baptist State Board of Missions\, Samford University\, and the Disciple Leaders Network. \nREGISTER HERE
URL:https://disciplemakingal.com/event/2025-southeast-regional-disciple-making-summit/
LOCATION:First Baptist Birmingham\, 2209 Lakeshore Dr.\, Birmingham\, 35209\, United States
CATEGORIES:Conference
ATTACH;FMTTYPE=image/jpeg:https://disciplemakingal.com/wp-content/uploads/2025/01/Copy-of-dmc-logo.jpg
END:VEVENT
END:VCALENDAR