BEGIN:VCALENDAR
VERSION:2.0
PRODID:-//Disciple Making Ministries - ECPv6.15.20//NONSGML v1.0//EN
CALSCALE:GREGORIAN
METHOD:PUBLISH
X-WR-CALNAME:Disciple Making Ministries
X-ORIGINAL-URL:https://disciplemakingal.com
X-WR-CALDESC:Events for Disciple Making Ministries
REFRESH-INTERVAL;VALUE=DURATION:PT1H
X-Robots-Tag:noindex
X-PUBLISHED-TTL:PT1H
BEGIN:VTIMEZONE
TZID:America/New_York
BEGIN:DAYLIGHT
TZOFFSETFROM:-0500
TZOFFSETTO:-0400
TZNAME:EDT
DTSTART:20220313T070000
END:DAYLIGHT
BEGIN:STANDARD
TZOFFSETFROM:-0400
TZOFFSETTO:-0500
TZNAME:EST
DTSTART:20221106T060000
END:STANDARD
BEGIN:DAYLIGHT
TZOFFSETFROM:-0500
TZOFFSETTO:-0400
TZNAME:EDT
DTSTART:20230312T070000
END:DAYLIGHT
BEGIN:STANDARD
TZOFFSETFROM:-0400
TZOFFSETTO:-0500
TZNAME:EST
DTSTART:20231105T060000
END:STANDARD
BEGIN:DAYLIGHT
TZOFFSETFROM:-0500
TZOFFSETTO:-0400
TZNAME:EDT
DTSTART:20240310T070000
END:DAYLIGHT
BEGIN:STANDARD
TZOFFSETFROM:-0400
TZOFFSETTO:-0500
TZNAME:EST
DTSTART:20241103T060000
END:STANDARD
END:VTIMEZONE
BEGIN:VEVENT
DTSTART;TZID=America/New_York:20230918T090000
DTEND;TZID=America/New_York:20230918T140000
DTSTAMP:20260423T103938
CREATED:20230822T024004Z
LAST-MODIFIED:20230918T120259Z
UID:31438-1695027600-1695045600@disciplemakingal.com
SUMMARY:Disciple Link - Birmingham
DESCRIPTION:Pastors\, Staff\, and Church Leaders are invited to join us for a unique connecting event called Disciple Link! Leaders learn better shoulder to shoulder rather than in rows\, so we’ve designed this event to provide encouragement to you and to equip you to develop a pipeline of leaders in your church! \nREGISTRATION IS CLOSED FOR THIS EVENT \n  \nWHEN: Monday\, September 18\, 2023\, 9 AM – 2 PM\nWHERE: Bethel Baptist Church in Pleasant Grove\, AL\nWHAT: A time of connecting over Cornhole\, Ping Pong\, & Pickle Ball\, Panel Discussions and learning\, Small-Group Breakout Discussion\, Lunch\, & Door Prizes!\nCOST: $8 (Thanks to our partnership with the Alabama Baptist State Board of Missions) \n  \n \nWe will be giving away a 36-inch Blackstone Grill at the beginning of the event as a door prize\, but you must be present to win!\nREGISTRATION IS CLOSED FOR THIS EVENT \n  \nSCHEDULE: \n9:00 – 9:30 – Registration & Door Prize Giveaway\n9:30 – 10:30 – Fun & Fellowship around Cornhole\, Ping Pong\, & Pickle Ball\n10:30 – 11:30 – Small Group Breakout Discussions\n11:30 – 1:00 PM – Lunch (Grilled-Out Hamburgers & Hot Dogs) & Panel Discussion\n1:00 – 2:00 – Small Group Breakout Discussions \nREGISTRATION IS CLOSED FOR THIS EVENT \n  \nPanel Discussion & Small Group Leaders\nSarah Law\, Fultondale FBC\nEric Taylor\, Bethel Baptist\nCody Hale\, Iron City Baptist\nAndy Frazier\, Jasper’s FBC\nMark Gainey\, Fultondale FBC\n 
URL:https://disciplemakingal.com/event/disciple-link-birmingham/
LOCATION:Bethel Baptist Church\, Pleasant Grove\, 635 9th Way\, Pleasant Grove\, AL\, 35127\, United States
CATEGORIES:Disciple Link
END:VEVENT
END:VCALENDAR