BEGIN:VCALENDAR
VERSION:2.0
PRODID:-//Disciple Making Ministries - ECPv6.15.20//NONSGML v1.0//EN
CALSCALE:GREGORIAN
METHOD:PUBLISH
X-ORIGINAL-URL:https://disciplemakingal.com
X-WR-CALDESC:Events for Disciple Making Ministries
REFRESH-INTERVAL;VALUE=DURATION:PT1H
X-Robots-Tag:noindex
X-PUBLISHED-TTL:PT1H
BEGIN:VTIMEZONE
TZID:America/New_York
BEGIN:DAYLIGHT
TZOFFSETFROM:-0500
TZOFFSETTO:-0400
TZNAME:EDT
DTSTART:20220313T070000
END:DAYLIGHT
BEGIN:STANDARD
TZOFFSETFROM:-0400
TZOFFSETTO:-0500
TZNAME:EST
DTSTART:20221106T060000
END:STANDARD
BEGIN:DAYLIGHT
TZOFFSETFROM:-0500
TZOFFSETTO:-0400
TZNAME:EDT
DTSTART:20230312T070000
END:DAYLIGHT
BEGIN:STANDARD
TZOFFSETFROM:-0400
TZOFFSETTO:-0500
TZNAME:EST
DTSTART:20231105T060000
END:STANDARD
BEGIN:DAYLIGHT
TZOFFSETFROM:-0500
TZOFFSETTO:-0400
TZNAME:EDT
DTSTART:20240310T070000
END:DAYLIGHT
BEGIN:STANDARD
TZOFFSETFROM:-0400
TZOFFSETTO:-0500
TZNAME:EST
DTSTART:20241103T060000
END:STANDARD
BEGIN:DAYLIGHT
TZOFFSETFROM:-0500
TZOFFSETTO:-0400
TZNAME:EDT
DTSTART:20250309T070000
END:DAYLIGHT
BEGIN:STANDARD
TZOFFSETFROM:-0400
TZOFFSETTO:-0500
TZNAME:EST
DTSTART:20251102T060000
END:STANDARD
END:VTIMEZONE
BEGIN:VEVENT
DTSTART;TZID=America/New_York:20241010T090000
DTEND;TZID=America/New_York:20241010T140000
DTSTAMP:20260421T103611
CREATED:20240415T181610Z
LAST-MODIFIED:20240823T183457Z
UID:31922-1728550800-1728568800@disciplemakingal.com
SUMMARY:Disciple Link -- Central Alabama 2024
DESCRIPTION:Pastors\, Staff\, and Church Leaders are invited to join us for a unique connecting event called Disciple Link! Leaders learn better shoulder to shoulder rather than in rows\, so we’ve designed this event to provide encouragement to you and to equip you to make disciples and develop leaders in your church! \nREGISTER NOW\n  \nWHEN: Thursday\, October 10\, 9 AM — 1 PM\nWHERE: Bethsalem Baptist Church in Billingsley\, AL\nWHAT: A time of connecting over games\, Panel Discussions and learning\, Small-Group Breakout Discussion\, Lunch\, & Door Prizes!\nCOST: $8 (Thanks to our partnership with the Alabama Baptist State Board of Missions) \nREGISTER NOW\n  \nSCHEDULE: \n9:00 — 10:00 — Fun & Fellowship around Games\n10:00 — 10:30 — Keynote & Discussion\n10:30 — 11:30 — Small Group Breakout Discussions\n11:30 — 12:30 PM — Lunch (Grilled-Out Hamburgers & Hot Dogs)\n12:30 — 1:00 — Panel Discussion \nPanel Discussion & Small Group Leaders\nSarah Law\, Fultondale FBC\nEric Taylor\, Bethel Baptist\nAndy Frazier\, Jasper’s FBC\nMark Gainey\, Fultondale FBC\n 
URL:https://disciplemakingal.com/event/disciple-link-central-alabama-2024/
LOCATION:Bethsalem Baptist Church\, 2990 Co Rd 24\, Billingsley\, 36006\, United States
CATEGORIES:Disciple Link
ATTACH;FMTTYPE=image/jpeg:https://disciplemakingal.com/wp-content/uploads/2024/04/disciple-link-logo.jpg
END:VEVENT
BEGIN:VEVENT
DTSTART;TZID=America/New_York:20240916T090000
DTEND;TZID=America/New_York:20240916T140000
DTSTAMP:20260421T103611
CREATED:20240415T183149Z
LAST-MODIFIED:20240823T183512Z
UID:31923-1726477200-1726495200@disciplemakingal.com
SUMMARY:Disciple Link -- Birmingham 2024
DESCRIPTION:Pastors\, Staff\, and Church Leaders are invited to join us for a unique connecting event called Disciple Link! Leaders learn better shoulder to shoulder rather than in rows\, so we’ve designed this event to provide encouragement to you and to equip you to develop a pipeline of leaders in your church! \nREGISTER NOW\n  \nWHEN: Monday\, September 16\, 2024\, 9 AM — 1 PM\nWHERE: Bethel Baptist Church in Pleasant Grove\, AL\nWHAT: A time of connecting over games\, Panel Discussions and learning\, Small-Group Breakout Discussion\, Lunch\, & Door Prizes!\nCOST: $8 (Thanks to our partnership with the Alabama Baptist State Board of Missions) \nREGISTER NOW\n  \n\nSCHEDULE: \n9:00 — 10:00 — Fun & Fellowship around Games\n10:00 — 10:30 — Keynote & Discussion\n10:30 — 11:30 — Small Group Breakout Discussions\n11:30 — 12:30 PM — Lunch (Grilled-Out Hamburgers & Hot Dogs)\n12:30 — 1:00 — Panel Discussion \nPanel Discussion & Small Group Leaders\n\nEric Taylor\, Bethel Baptist\nCody Hale\, Iron City Baptist\nAndy Frazier\, Jasper’s FBC\n\n 
URL:https://disciplemakingal.com/event/disciple-link-birmingham-2024/
LOCATION:Bethel Baptist Church\, Pleasant Grove\, 635 9th Way\, Pleasant Grove\, AL\, 35127\, United States
CATEGORIES:Disciple Link
ATTACH;FMTTYPE=image/jpeg:https://disciplemakingal.com/wp-content/uploads/2024/04/disciple-link-logo.jpg
END:VEVENT
BEGIN:VEVENT
DTSTART;TZID=America/New_York:20240905T103000
DTEND;TZID=America/New_York:20240905T140000
DTSTAMP:20260421T103611
CREATED:20240430T024119Z
LAST-MODIFIED:20240829T155014Z
UID:31978-1725532200-1725544800@disciplemakingal.com
SUMMARY:Disciple Link -- North Alabama 2024
DESCRIPTION:Pastors\, Staff\, and Church Leaders are invited to join us for a unique connecting event called Disciple Link! Leaders learn better shoulder to shoulder rather than in rows\, so we’ve designed this event to provide encouragement to you and to equip you to make disciples and develop leaders in your church! \nREGISTER NOW\n  \nWHEN: Thursday\, September 5th\, 10:30 AM to 2 PM\nWHERE: Camp Macoba\, 461 Hillsboro Dr\, New Market\, AL 35761\nWHAT: A time of connecting over games\, Panel Discussions and learning\, Small-Group Breakout Discussion\, Lunch\, & Door Prizes!\nCOST: $8 (Thanks to our partnership with the Alabama Baptist State Board of Missions) \nREGISTER NOW\n  \nSCHEDULE: \n10:30 to 11:30 Fun & Fellowship around Games\n11:30 to 12:30 Lunch (Grilled-Out Hamburgers & Hot Dogs) & Keynote\n12:30 to 1:30 PM Small Group Breakout Discussions\n1:30 to 2:00 Panel Q & A \nKEYNOTE\n \nDaniel Edmonds\, Author of Start Small\, Do It Right\, Build It Strong! \nPanel Discussion & Small Group Leaders\nSarah Law\, Fultondale FBC\nEric Taylor\, Bethel Baptist\nAndy Frazier\, Jasper’s FBC\nMark Gainey\, Fultondale FBC\nCody Hale\, Iron City Baptist
URL:https://disciplemakingal.com/event/disciple-link-north-alabama-2024/
LOCATION:Camp Macoba\, 461 Hillsboro Dr\, 461 Hillsboro Drive\, New Market\, AL\, 35761\, United States
CATEGORIES:Disciple Link
ATTACH;FMTTYPE=image/jpeg:https://disciplemakingal.com/wp-content/uploads/2024/04/disciple-link-logo.jpg
END:VEVENT
BEGIN:VEVENT
DTSTART;TZID=America/New_York:20231023T090000
DTEND;TZID=America/New_York:20231023T140000
DTSTAMP:20260421T103611
CREATED:20230830T155538Z
LAST-MODIFIED:20230830T160414Z
UID:31481-1698051600-1698069600@disciplemakingal.com
SUMMARY:Disciple Link - Central Alabama
DESCRIPTION:Pastors\, Staff\, and Church Leaders are invited to join us for a unique connecting event called Disciple Link! Leaders learn better shoulder to shoulder rather than in rows\, so we’ve designed this event to provide encouragement to you and to equip you to develop a pipeline of leaders in your church! \nREGISTER NOW\n  \nWHEN: Monday\, October 23\, 2023\, 9 AM – 2 PM\nWHERE: Crossroads Community Church in Elmore\, AL\nWHAT: A time of connecting over Cornhole\, Panel Discussions and learning\, Small-Group Breakout Discussion\, Lunch\, & Door Prizes!\nCOST: $8 (Thanks to our partnership with the Alabama Baptist State Board of Missions) \n  \n  \nREGISTER NOW\n  \nSCHEDULE: \n9:00 – 9:30 – Registration & Door Prize Giveaway\n9:30 – 10:30 – Fun & Fellowship around Cornhole\n10:30 – 11:30 – Small Group Breakout Discussions\n11:30 – 1:00 PM – Lunch (Grilled-Out Hamburgers & Hot Dogs) & Panel Discussion\n1:00 – 2:00 – Small Group Breakout Discussions \nREGISTER NOW\n  \nPanel Discussion & Small Group Leaders\nSarah Law\, Fultondale FBC\nEric Taylor\, Bethel Baptist\nAndy Frazier\, Jasper’s FBC\nMark Gainey\, Fultondale FBC\n 
URL:https://disciplemakingal.com/event/disciple-link-central-alabama/
LOCATION:Crossroads Community Church\, 150 Mt. Hebron Road\, Elmore\, AL\, 36025\, United States
CATEGORIES:Disciple Link
END:VEVENT
BEGIN:VEVENT
DTSTART;TZID=America/New_York:20230918T090000
DTEND;TZID=America/New_York:20230918T140000
DTSTAMP:20260421T103611
CREATED:20230822T024004Z
LAST-MODIFIED:20230918T120259Z
UID:31438-1695027600-1695045600@disciplemakingal.com
SUMMARY:Disciple Link - Birmingham
DESCRIPTION:Pastors\, Staff\, and Church Leaders are invited to join us for a unique connecting event called Disciple Link! Leaders learn better shoulder to shoulder rather than in rows\, so we’ve designed this event to provide encouragement to you and to equip you to develop a pipeline of leaders in your church! \nREGISTRATION IS CLOSED FOR THIS EVENT \n  \nWHEN: Monday\, September 18\, 2023\, 9 AM – 2 PM\nWHERE: Bethel Baptist Church in Pleasant Grove\, AL\nWHAT: A time of connecting over Cornhole\, Ping Pong\, & Pickle Ball\, Panel Discussions and learning\, Small-Group Breakout Discussion\, Lunch\, & Door Prizes!\nCOST: $8 (Thanks to our partnership with the Alabama Baptist State Board of Missions) \n  \n \nWe will be giving away a 36-inch Blackstone Grill at the beginning of the event as a door prize\, but you must be present to win!\nREGISTRATION IS CLOSED FOR THIS EVENT \n  \nSCHEDULE: \n9:00 – 9:30 – Registration & Door Prize Giveaway\n9:30 – 10:30 – Fun & Fellowship around Cornhole\, Ping Pong\, & Pickle Ball\n10:30 – 11:30 – Small Group Breakout Discussions\n11:30 – 1:00 PM – Lunch (Grilled-Out Hamburgers & Hot Dogs) & Panel Discussion\n1:00 – 2:00 – Small Group Breakout Discussions \nREGISTRATION IS CLOSED FOR THIS EVENT \n  \nPanel Discussion & Small Group Leaders\nSarah Law\, Fultondale FBC\nEric Taylor\, Bethel Baptist\nCody Hale\, Iron City Baptist\nAndy Frazier\, Jasper’s FBC\nMark Gainey\, Fultondale FBC\n 
URL:https://disciplemakingal.com/event/disciple-link-birmingham/
LOCATION:Bethel Baptist Church\, Pleasant Grove\, 635 9th Way\, Pleasant Grove\, AL\, 35127\, United States
CATEGORIES:Disciple Link
END:VEVENT
END:VCALENDAR